BEGIN:VCALENDAR
VERSION:2.0
PRODID:-//PLA Media - ECPv6.15.20//NONSGML v1.0//EN
CALSCALE:GREGORIAN
METHOD:PUBLISH
X-WR-CALNAME:PLA Media
X-ORIGINAL-URL:https://www.plamedia.com
X-WR-CALDESC:Events for PLA Media
REFRESH-INTERVAL;VALUE=DURATION:PT1H
X-Robots-Tag:noindex
X-PUBLISHED-TTL:PT1H
BEGIN:VTIMEZONE
TZID:UTC
BEGIN:STANDARD
TZOFFSETFROM:+0000
TZOFFSETTO:+0000
TZNAME:UTC
DTSTART:20240101T000000
END:STANDARD
END:VTIMEZONE
BEGIN:VEVENT
DTSTART;TZID=UTC:20260326T180000
DTEND;TZID=UTC:20260326T200000
DTSTAMP:20260423T175845
CREATED:20260320T165323Z
LAST-MODIFIED:20260320T165323Z
UID:10332-1774548000-1774555200@www.plamedia.com
SUMMARY:Pours & Palates: A Curated Culinary Experience
DESCRIPTION:Following an unforgettable 2025 event\, YOUR Community Media and YOUR Williamson are thrilled to host the second annual Pours & Palates: A Curated Culinary Experience\, at 111 Motorcars in Franklin\, presented by Visit The Shoals — Florence-Lauderdale Convention & Visitors Bureau! \nOn March 26th\, from 6pm – 8pm\, indulge in another evening of culinary delights\, exceptional pours\, and local flavor and flair for the palate. This elevated tasting event will showcase the vibrant food scene of our community\, featuring an expertly curated selection of food and beverage tastings — including wines\, craft brews\, distilleries and local spirits\, live music\, experience exhibits\, and demonstrations. Guests will also enjoy the beautiful car collection at 111 Motorcars. \n2026 POURS & PALATES EXPERIENCE PARTNERS\n111 Motorcars\n1799 Kitchen & Bar Room\nBlooming Kupcakes\nChrysalis Modern Italian\nCliffNotes\nCocktail Carriage\nCowboy Cannolis\nCurio Brewing Company\nGraze Craze\nJeff Ruby’s Steakhouse\nLeiper’s Fork Distillery\nMargaritas & More\nThe Atomic Cigar Co.\nThe White Alligator \nThe Franklin Special School District’s Take A Bite Campaign will once again serve as the charitable partner. Through this event\, YOUR Community Media and YOUR Williamson hope to shine a light on the campaign and encourage donations to support its mission of assisting families who struggle to pay their children’s cafeteria balances. \nMore information and tickets for Pours & Palates available at yourcommunity.media/events.
URL:https://www.plamedia.com/event/pours-palates-a-curated-culinary-experience/
LOCATION:111 Motorcars\, 111 Alpha Dr\, Franklin\, TN\, 37064\, United States
CATEGORIES:Non-Profit
ATTACH;FMTTYPE=image/jpeg:https://www.plamedia.com/wp-content/uploads/2026/03/213f397aecfea734c3d5f24c_1220x1526.jpeg
END:VEVENT
BEGIN:VEVENT
DTSTART;TZID=UTC:20260324T183000
DTEND;TZID=UTC:20260324T213000
DTSTAMP:20260423T175845
CREATED:20260318T165810Z
LAST-MODIFIED:20260318T165810Z
UID:10321-1774377000-1774387800@www.plamedia.com
SUMMARY:Curb Lecture Series - An Evening Exploring Elvis Presley's Nashville Legacy with Don Cusic
DESCRIPTION:Elvis Presley‘s enduring legacy — as evidenced by EPiC: Elvis Presley in Concert\, a new hit documentary concert film from Baz Luhrmann — and Elvis’ connection to one of music’s most iconic recording spaces will be the focus of an upcoming lecture at Historic RCA Studio B\, presented by renowned music historian and author Don Cusic. \nThe lecture is part of the ongoing Curb Lecture Series in partnership with the Metro Historical Commission and will explore how Presley’s recordings at RCA Studio B helped shape the sound of modern popular music. \nThe event is scheduled for March 24 at 6:30 p.m. Admission is $10\, with all proceeds benefiting The Nashville Historic Foundation. To register\, CLICK HERE.
URL:https://www.plamedia.com/event/curb-lecture-series-an-evening-exploring-elvis-presleys-nashville-legacy-with-don-cusic/
LOCATION:RCA Studio B\, 1611 Roy Acuff Place\, Nashville\, TN\, 37203\, United States
CATEGORIES:Educational,Historical,Music,Non-Profit
ATTACH;FMTTYPE=image/jpeg:https://www.plamedia.com/wp-content/uploads/2026/03/RCA-Studio-B.jpg
END:VEVENT
BEGIN:VEVENT
DTSTART;TZID=UTC:20250503T100000
DTEND;TZID=UTC:20250503T150000
DTSTAMP:20260423T175845
CREATED:20250422T195521Z
LAST-MODIFIED:20250422T195521Z
UID:10038-1746266400-1746284400@www.plamedia.com
SUMMARY:First Annual “Mommy & Me” Springtime Tea
DESCRIPTION:Middle Tennessee moms and their littles are invited to celebrate springtime magic Saturday\, May 3\, 2025 as the first annual “Mommy & Me” Springtime Tea takes place at Historic Stone Hall\, one of the region’s most beloved historic homes. With both morning (10:00 AM) and afternoon (1:00 PM) seatings available\, mothers and children are encouraged to dress up and delight in an experience of timeless tradition\, graceful surroundings\, and cherished family memories. Tickets are on sale now HERE and must be purchased in advance.
URL:https://www.plamedia.com/event/first-annual-mommy-me-springtime-tea/
LOCATION:Two Rivers Mansion\, 3130 McGavock Pike\, Nashville\, TN\, 37214
CATEGORIES:Non-Profit
ATTACH;FMTTYPE=image/jpeg:https://www.plamedia.com/wp-content/uploads/2025/04/Mommy-And-Me.jpg
END:VEVENT
BEGIN:VEVENT
DTSTART;TZID=UTC:20250427T130000
DTEND;TZID=UTC:20250427T160000
DTSTAMP:20260423T175845
CREATED:20250410T171232Z
LAST-MODIFIED:20250422T195608Z
UID:10024-1745758800-1745769600@www.plamedia.com
SUMMARY:"Phil The House” at Two Rivers Mansion
DESCRIPTION:Amid a comprehensive multi-year restoration initiative\, the majestic doors of Two Rivers Mansion will welcome visitors Sunday\, April 27 (1:00 – 4:00 PM) for “Phil The House” – the property’s annual open house event. Free and open to the public – all are invited to get an up-close look at the final stage of restoration on this historic landmark. \nGuests will enjoy art\, light refreshments\, and opportunities to get involved in preserving one of Nashville’s most significant landmarks.
URL:https://www.plamedia.com/event/phil-the-house-at-two-rivers-mansion/
LOCATION:Two Rivers Mansion\, 3130 McGavock Pike\, Nashville\, TN\, 37214
CATEGORIES:Non-Profit
ATTACH;FMTTYPE=image/jpeg:https://www.plamedia.com/wp-content/uploads/2025/04/Two-Rivers-Mansion-1.jpg
END:VEVENT
END:VCALENDAR