BEGIN:VCALENDAR
VERSION:2.0
PRODID:-//PLA Media - ECPv6.15.20//NONSGML v1.0//EN
CALSCALE:GREGORIAN
METHOD:PUBLISH
X-ORIGINAL-URL:https://www.plamedia.com
X-WR-CALDESC:Events for PLA Media
REFRESH-INTERVAL;VALUE=DURATION:PT1H
X-Robots-Tag:noindex
X-PUBLISHED-TTL:PT1H
BEGIN:VTIMEZONE
TZID:UTC
BEGIN:STANDARD
TZOFFSETFROM:+0000
TZOFFSETTO:+0000
TZNAME:UTC
DTSTART:20240101T000000
END:STANDARD
END:VTIMEZONE
BEGIN:VEVENT
DTSTART;TZID=UTC:20250920T180000
DTEND;TZID=UTC:20250920T213000
DTSTAMP:20260424T050226
CREATED:20250919T152112Z
LAST-MODIFIED:20250919T152112Z
UID:10178-1758391200-1758403800@www.plamedia.com
SUMMARY:Music at the Mansion
DESCRIPTION:As summer fades into the rustic fall\, The Friends of Two Rivers are proud to present Music at the Mansion with live music from The Moonlighters Big Band with support from rising songstress Neah McMeen. Music at the Mansion takes place from 6-9:30 pm at the Two Rivers Mansion located at 3130 McGavock Pike Nashville\, TN 37214. Tickets to Music at the Mansion cost $10 per person or $30 max per car. Tickets for Friends of Two Rivers members are $5 per person or $20 max per car.
URL:https://www.plamedia.com/event/music-at-the-mansion/
LOCATION:Two Rivers Mansion\, 3130 McGavock Pike\, Nashville\, TN\, 37214
CATEGORIES:Music
ATTACH;FMTTYPE=image/jpeg:https://www.plamedia.com/wp-content/uploads/2025/09/eda2524ab682727bc465a960_1220x1678.jpeg
END:VEVENT
END:VCALENDAR