BEGIN:VCALENDAR
VERSION:2.0
PRODID:-//PLA Media - ECPv6.15.20//NONSGML v1.0//EN
CALSCALE:GREGORIAN
METHOD:PUBLISH
X-WR-CALNAME:PLA Media
X-ORIGINAL-URL:https://www.plamedia.com
X-WR-CALDESC:Events for PLA Media
REFRESH-INTERVAL;VALUE=DURATION:PT1H
X-Robots-Tag:noindex
X-PUBLISHED-TTL:PT1H
BEGIN:VTIMEZONE
TZID:UTC
BEGIN:STANDARD
TZOFFSETFROM:+0000
TZOFFSETTO:+0000
TZNAME:UTC
DTSTART:20240101T000000
END:STANDARD
END:VTIMEZONE
BEGIN:VEVENT
DTSTART;TZID=UTC:20250308T170000
DTEND;TZID=UTC:20250308T200000
DTSTAMP:20260424T114156
CREATED:20250304T211925Z
LAST-MODIFIED:20250304T211925Z
UID:9963-1741453200-1741464000@www.plamedia.com
SUMMARY:VFW Post 4893 Musical Showcase
DESCRIPTION:VFW Post 4893 invites the community to a Musical Showcase featuring an evening of live performances by amazing songwriters and veterans. The event will start with a flag retirement ceremony\, followed by a songwriter’s round\, guitars for vet’s performances\, and an open mic night. \nOPEN TO THE PUBLIC
URL:https://www.plamedia.com/event/vfw-post-4893-musical-showcase/
LOCATION:VFW Post 4893\, 101 Eddy Ln\, Franklin\, TN\, 37064\, United States
CATEGORIES:Music
ATTACH;FMTTYPE=image/png:https://www.plamedia.com/wp-content/uploads/2025/03/9839b6dcecad6abb65e90733_536x694.png
END:VEVENT
BEGIN:VEVENT
DTSTART;TZID=UTC:20250322T190000
DTEND;TZID=UTC:20250322T210000
DTSTAMP:20260424T114156
CREATED:20250320T142806Z
LAST-MODIFIED:20250320T142806Z
UID:9986-1742670000-1742677200@www.plamedia.com
SUMMARY:The Lisa Stewart Jazz Combo
DESCRIPTION:Get ready for an unforgettable evening of music as The Lisa Stewart Jazz Combo returns to The Mockingbird Theater by popular demand Saturday\, March 22 from 7 PM – 9 PM. The songstress introduces a new band member\, new tunes\, and classic favorites in an intimate setting. This performance promises to be a unique blend of vocal jazz and country\, showcasing innovative arrangements and special guest appearances that will leave audiences captivated. Adult libations are available and parking is free. \nJoining the combo for this special event is the incredibly talented Derek Pell\, known for his mastery of the Gypsy fiddle. Derek will be featured performing several classic tunes by the legendary Stéphane Grappelli\, bringing a fresh and invigorating sound to the evening.
URL:https://www.plamedia.com/event/the-lisa-stewart-jazz-combo/
LOCATION:The Mockingbird Theater\, 230 Franklin Rd\, Franklin\, TN\, 37064\, United States
CATEGORIES:Music
ATTACH;FMTTYPE=image/jpeg:https://www.plamedia.com/wp-content/uploads/2025/03/Lisa-Stewart-Jazz-Combo.jpg
END:VEVENT
END:VCALENDAR