BEGIN:VCALENDAR
VERSION:2.0
PRODID:-//PLA Media - ECPv6.15.20//NONSGML v1.0//EN
CALSCALE:GREGORIAN
METHOD:PUBLISH
X-ORIGINAL-URL:https://www.plamedia.com
X-WR-CALDESC:Events for PLA Media
REFRESH-INTERVAL;VALUE=DURATION:PT1H
X-Robots-Tag:noindex
X-PUBLISHED-TTL:PT1H
BEGIN:VTIMEZONE
TZID:UTC
BEGIN:STANDARD
TZOFFSETFROM:+0000
TZOFFSETTO:+0000
TZNAME:UTC
DTSTART:20240101T000000
END:STANDARD
END:VTIMEZONE
BEGIN:VEVENT
DTSTART;TZID=UTC:20260324T183000
DTEND;TZID=UTC:20260324T213000
DTSTAMP:20260423T175845
CREATED:20260318T165810Z
LAST-MODIFIED:20260318T165810Z
UID:10321-1774377000-1774387800@www.plamedia.com
SUMMARY:Curb Lecture Series - An Evening Exploring Elvis Presley's Nashville Legacy with Don Cusic
DESCRIPTION:Elvis Presley‘s enduring legacy — as evidenced by EPiC: Elvis Presley in Concert\, a new hit documentary concert film from Baz Luhrmann — and Elvis’ connection to one of music’s most iconic recording spaces will be the focus of an upcoming lecture at Historic RCA Studio B\, presented by renowned music historian and author Don Cusic. \nThe lecture is part of the ongoing Curb Lecture Series in partnership with the Metro Historical Commission and will explore how Presley’s recordings at RCA Studio B helped shape the sound of modern popular music. \nThe event is scheduled for March 24 at 6:30 p.m. Admission is $10\, with all proceeds benefiting The Nashville Historic Foundation. To register\, CLICK HERE.
URL:https://www.plamedia.com/event/curb-lecture-series-an-evening-exploring-elvis-presleys-nashville-legacy-with-don-cusic/
LOCATION:RCA Studio B\, 1611 Roy Acuff Place\, Nashville\, TN\, 37203\, United States
CATEGORIES:Educational,Historical,Music,Non-Profit
ATTACH;FMTTYPE=image/jpeg:https://www.plamedia.com/wp-content/uploads/2026/03/RCA-Studio-B.jpg
END:VEVENT
BEGIN:VEVENT
DTSTART;VALUE=DATE:20250926
DTEND;VALUE=DATE:20250929
DTSTAMP:20260423T175845
CREATED:20250919T153907Z
LAST-MODIFIED:20250919T153907Z
UID:10183-1758844800-1759103999@www.plamedia.com
SUMMARY:The Tina Turner Heritage Days
DESCRIPTION:The Tina Turner Heritage Days take place from September 26-28\, 2025 and offers a wide variety of events for fans new and old. From Nutbush tours and fan gatherings to a powerhouse Elevation Memphis tribute concert and Sunday worship at Woodlawn Missionary Baptist Church\, you’ll walk in Tina’s footsteps and feel the roots and soul of her remarkable journey. \nTINA TURNER HERITAGE DAYS SCHEDULE OF EVENTS:\nTHURSDAY\, SEPTEMBER 25\, 2025 \nArt Show and Reception for sculptor Fred Adjanogha\, TBA \nFRIDAY\, SEPTEMBER 26\, 2025 \nNutbush Tour 10 AM & 2 PM \nFan Gathering from 6 PM – 8 PM \nTina at the Movies – “Mad Max: Beyond Thunderdome” showing at 8 PM. \nSATURDAY\, SEPTEMBER 27\, 2025 \nTina Turner Statue Unveiling 10 AM at Heritage Park\nAddress: 709 East Jefferson\, Brownsville\, TN 38012 \nBook Signing with Dr. Catherine Meeks\nDr. Meeks is an Arkansas native with similar roots to Tina Turner\, both daughters of sharecroppers who refused to be defined by the limits of their beginnings. Dr. Meeks became a respected theologian\, author and social justice leader. Dunbar Carver Museum\, 12 PM \nNutbush Tour: 2 PM \nSpecial Programs: 2 PM\, Carver Cafeteria \n“No Limits: Tina Turner’s Global Feminism” presented by Tim Riley\, Author and Professor of Journalism\, Emerson College\, Boston MS \nFan Q&A with Ferly Prado and Ollie Marland.\nFerly is a dancer and choreographer and worked with Tina during the “Tina: Live!” tour.\nOllie Marland\, keyboardist\, musical director and arranger for Tina. \nConcert: Elevation Memphis – A Tina Turner Tribute Experience\, Carver High School Gymnasium – 6:30PM \nSUNDAY\, SEPTEMBER 28\, 2025 \nWorship at Woodlawn Missionary Baptist Church – 8 AM \nBreakfast & Goodbyes – 9 AM \nFor More Information visit the Tina Turner Heritage Days website.
URL:https://www.plamedia.com/event/the-tina-turner-heritage-days/
LOCATION:Brownsville\, TN\, 709 East Jefferson\, Brownsville\, TN\, 38012\, United States
CATEGORIES:Historical
ATTACH;FMTTYPE=image/png:https://www.plamedia.com/wp-content/uploads/2025/08/Tina-Turner-Heritage-Days.png
END:VEVENT
BEGIN:VEVENT
DTSTART;VALUE=DATE:20250213
DTEND;VALUE=DATE:20250501
DTSTAMP:20260423T175845
CREATED:20250220T163335Z
LAST-MODIFIED:20250220T164644Z
UID:9931-1739404800-1746057599@www.plamedia.com
SUMMARY:The Black Farm Experience
DESCRIPTION:“The Black Farm Experience” traces the journey of African American farmers from the era of slavery through sharecropping and into land ownership\, showcasing the immense challenges they faced and their enduring connection to the land. The exhibit aims to portray the trials\, truths\, and triumphs of Black individuals in the agriculture industry.
URL:https://www.plamedia.com/event/the-black-farm-experience/
LOCATION:West Tennessee Delta Heritage Center\, 121 Sunny Hill Cove\, Brownsville\, TN\, 38012
CATEGORIES:Educational,Historical
ATTACH;FMTTYPE=image/jpeg:https://www.plamedia.com/wp-content/uploads/2025/02/Howard-Bond-WTDHC-e1740069868239.jpg
END:VEVENT
BEGIN:VEVENT
DTSTART;VALUE=DATE:20250212
DTEND;VALUE=DATE:20250424
DTSTAMP:20260423T175845
CREATED:20250131T180544Z
LAST-MODIFIED:20250220T163629Z
UID:9894-1739318400-1745452799@www.plamedia.com
SUMMARY:“Nashville Music History” Series with Author and Historian Dr. Don Cusic
DESCRIPTION:Nashille’s historic RCA Studio B is the site for a unique and informative public lecture series featuring renowned author and music historian\, Dr. Don Cusic. \nJoin the Metropolitan Historical Commission for “Nashville Music History\,” part of the Curb Lecture Series. All sessions meet on Wednesday evenings at 6:30 PM. \nFebruary 12: Nashville Music Timeline\nFebruary 26: The Hank Williams Years\nMarch 12: Elvis and Nashville\nMarch 26: The Nashville Sound\nApril 16: Johnny Cash and Bob Dylan\nApril 23: The Beatles and Country Music
URL:https://www.plamedia.com/event/nashville-music-history-series-with-author-and-historian-dr-don-cusic/
LOCATION:RCA Studio B\, 1611 Roy Acuff Place\, Nashville\, TN\, 37203\, United States
CATEGORIES:Educational,Historical
ATTACH;FMTTYPE=image/jpeg:https://www.plamedia.com/wp-content/uploads/2025/01/Dr.-Don-Cusic.jpg
END:VEVENT
END:VCALENDAR